BEGIN:VCALENDAR
VERSION:2.0
PRODID:-//Centro Studi CISL - ECPv6.15.18//NONSGML v1.0//EN
CALSCALE:GREGORIAN
METHOD:PUBLISH
X-WR-CALNAME:Centro Studi CISL
X-ORIGINAL-URL:https://www.centrostudi.cisl.it
X-WR-CALDESC:Eventi per Centro Studi CISL
REFRESH-INTERVAL;VALUE=DURATION:PT1H
X-Robots-Tag:noindex
X-PUBLISHED-TTL:PT1H
BEGIN:VTIMEZONE
TZID:Europe/Rome
BEGIN:DAYLIGHT
TZOFFSETFROM:+0100
TZOFFSETTO:+0200
TZNAME:CEST
DTSTART:20220327T010000
END:DAYLIGHT
BEGIN:STANDARD
TZOFFSETFROM:+0200
TZOFFSETTO:+0100
TZNAME:CET
DTSTART:20221030T010000
END:STANDARD
BEGIN:DAYLIGHT
TZOFFSETFROM:+0100
TZOFFSETTO:+0200
TZNAME:CEST
DTSTART:20230326T010000
END:DAYLIGHT
BEGIN:STANDARD
TZOFFSETFROM:+0200
TZOFFSETTO:+0100
TZNAME:CET
DTSTART:20231029T010000
END:STANDARD
BEGIN:DAYLIGHT
TZOFFSETFROM:+0100
TZOFFSETTO:+0200
TZNAME:CEST
DTSTART:20240331T010000
END:DAYLIGHT
BEGIN:STANDARD
TZOFFSETFROM:+0200
TZOFFSETTO:+0100
TZNAME:CET
DTSTART:20241027T010000
END:STANDARD
END:VTIMEZONE
BEGIN:VEVENT
DTSTART;TZID=Europe/Rome:20230529T000000
DTEND;TZID=Europe/Rome:20230601T235900
DTSTAMP:20260424T232358
CREATED:20240715T001506Z
LAST-MODIFIED:20240806T174245Z
UID:4018-1685318400-1685663940@www.centrostudi.cisl.it
SUMMARY:FIRST FBA Corso Credito Cooperativo
DESCRIPTION:
URL:https://www.centrostudi.cisl.it/evento/first-fba-corso-credito-cooperativo/
CATEGORIES:Attività federazioni e territorio
END:VEVENT
BEGIN:VEVENT
DTSTART;TZID=Europe/Rome:20230529T000000
DTEND;TZID=Europe/Rome:20230601T235900
DTSTAMP:20260424T232358
CREATED:20240715T001506Z
LAST-MODIFIED:20240806T174245Z
UID:4017-1685318400-1685663940@www.centrostudi.cisl.it
SUMMARY:“Innovare la contrattazione per promuovere relazioni di lavoro  partecipative” (Corso lungo per contrattualisti delle categorie Cisl del settore privato)
DESCRIPTION:
URL:https://www.centrostudi.cisl.it/evento/innovare-la-contrattazione-per-promuovere-relazioni-di-lavoro-partecipative-corso-lungo-per-contrattualisti-delle-categorie-cisl-del-settore-privato/
CATEGORIES:Corsi e seminari confederali
END:VEVENT
BEGIN:VEVENT
DTSTART;TZID=Europe/Rome:20230605T000000
DTEND;TZID=Europe/Rome:20230606T235900
DTSTAMP:20260424T232358
CREATED:20240715T001508Z
LAST-MODIFIED:20240806T174243Z
UID:4019-1685923200-1686095940@www.centrostudi.cisl.it
SUMMARY:Corso “Il ruolo del dirigente CISL nella conoscenza e nella realizzazione del PNRR per lo sviluppo territoriale”
DESCRIPTION:
URL:https://www.centrostudi.cisl.it/evento/corso-il-ruolo-del-dirigente-cisl-nella-conoscenza-e-nella-realizzazione-del-pnrr-per-lo-sviluppo-territoriale/
CATEGORIES:Corsi e seminari confederali
END:VEVENT
BEGIN:VEVENT
DTSTART;TZID=Europe/Rome:20230605T000000
DTEND;TZID=Europe/Rome:20230606T235900
DTSTAMP:20260424T232358
CREATED:20240715T001508Z
LAST-MODIFIED:20240806T174244Z
UID:4020-1685923200-1686095940@www.centrostudi.cisl.it
SUMMARY:Associazione Italiana Cristallografia - Seminario
DESCRIPTION:
URL:https://www.centrostudi.cisl.it/evento/associazione-italiana-cristallografia-seminario/
CATEGORIES:Altre attività
END:VEVENT
BEGIN:VEVENT
DTSTART;TZID=Europe/Rome:20230606T000000
DTEND;TZID=Europe/Rome:20230608T235900
DTSTAMP:20260424T232358
CREATED:20240715T001508Z
LAST-MODIFIED:20240806T174243Z
UID:4021-1686009600-1686268740@www.centrostudi.cisl.it
SUMMARY:CISL Medici - Corso
DESCRIPTION:
URL:https://www.centrostudi.cisl.it/evento/cisl-medici-corso-3/
CATEGORIES:Attività federazioni e territorio
END:VEVENT
BEGIN:VEVENT
DTSTART;TZID=Europe/Rome:20230607T000000
DTEND;TZID=Europe/Rome:20230607T235900
DTSTAMP:20260424T232358
CREATED:20240715T001508Z
LAST-MODIFIED:20240806T174242Z
UID:4022-1686096000-1686182340@www.centrostudi.cisl.it
SUMMARY:FNP Emilia Romagna - Incontro
DESCRIPTION:
URL:https://www.centrostudi.cisl.it/evento/fnp-emilia-romagna-incontro/
CATEGORIES:Attività federazioni e territorio
END:VEVENT
BEGIN:VEVENT
DTSTART;TZID=Europe/Rome:20230608T000000
DTEND;TZID=Europe/Rome:20230610T235900
DTSTAMP:20260424T232358
CREATED:20240715T001508Z
LAST-MODIFIED:20240806T174242Z
UID:4023-1686182400-1686441540@www.centrostudi.cisl.it
SUMMARY:Laboratorio della Conoscenza - Giornate "Carlo Corchia"
DESCRIPTION:
URL:https://www.centrostudi.cisl.it/evento/laboratorio-della-conoscenza-giornate-carlo-corchia/
CATEGORIES:Altre attività
END:VEVENT
BEGIN:VEVENT
DTSTART;TZID=Europe/Rome:20230610T000000
DTEND;TZID=Europe/Rome:20230611T235900
DTSTAMP:20260424T232358
CREATED:20240715T001523Z
LAST-MODIFIED:20240806T174240Z
UID:4024-1686355200-1686527940@www.centrostudi.cisl.it
SUMMARY:AVIS Toscana
DESCRIPTION:
URL:https://www.centrostudi.cisl.it/evento/avis-toscana/
CATEGORIES:Altre attività
END:VEVENT
BEGIN:VEVENT
DTSTART;TZID=Europe/Rome:20230610T000000
DTEND;TZID=Europe/Rome:20230611T235900
DTSTAMP:20260424T232358
CREATED:20240715T001523Z
LAST-MODIFIED:20240806T174241Z
UID:4025-1686355200-1686527940@www.centrostudi.cisl.it
SUMMARY:Master Università di Padova
DESCRIPTION:
URL:https://www.centrostudi.cisl.it/evento/master-universita-di-padova-6/
CATEGORIES:Altre attività
END:VEVENT
BEGIN:VEVENT
DTSTART;TZID=Europe/Rome:20230612T000000
DTEND;TZID=Europe/Rome:20230614T235900
DTSTAMP:20260424T232358
CREATED:20240715T001523Z
LAST-MODIFIED:20240806T174240Z
UID:4026-1686528000-1686787140@www.centrostudi.cisl.it
SUMMARY:Corso sulla Legalità
DESCRIPTION:
URL:https://www.centrostudi.cisl.it/evento/corso-sulla-legalita-5/
CATEGORIES:Corsi e seminari confederali
END:VEVENT
BEGIN:VEVENT
DTSTART;TZID=Europe/Rome:20230615T000000
DTEND;TZID=Europe/Rome:20230615T235900
DTSTAMP:20260424T232358
CREATED:20240715T001523Z
LAST-MODIFIED:20240806T174239Z
UID:4027-1686787200-1686873540@www.centrostudi.cisl.it
SUMMARY:Corso EFADD
DESCRIPTION:
URL:https://www.centrostudi.cisl.it/evento/corso-efadd/
CATEGORIES:Corsi e seminari confederali
END:VEVENT
BEGIN:VEVENT
DTSTART;TZID=Europe/Rome:20230618T000000
DTEND;TZID=Europe/Rome:20230707T235900
DTSTAMP:20260424T232358
CREATED:20240715T001523Z
LAST-MODIFIED:20240806T174238Z
UID:4028-1687046400-1688774340@www.centrostudi.cisl.it
SUMMARY:EEPE - Summer Course
DESCRIPTION:
URL:https://www.centrostudi.cisl.it/evento/eepe-summer-course-4/
CATEGORIES:Altre attività
END:VEVENT
END:VCALENDAR