BEGIN:VCALENDAR
VERSION:2.0
PRODID:-//Centro Studi CISL - ECPv6.15.18//NONSGML v1.0//EN
CALSCALE:GREGORIAN
METHOD:PUBLISH
X-ORIGINAL-URL:https://www.centrostudi.cisl.it
X-WR-CALDESC:Eventi per Centro Studi CISL
REFRESH-INTERVAL;VALUE=DURATION:PT1H
X-Robots-Tag:noindex
X-PUBLISHED-TTL:PT1H
BEGIN:VTIMEZONE
TZID:Europe/Rome
BEGIN:DAYLIGHT
TZOFFSETFROM:+0100
TZOFFSETTO:+0200
TZNAME:CEST
DTSTART:20220327T010000
END:DAYLIGHT
BEGIN:STANDARD
TZOFFSETFROM:+0200
TZOFFSETTO:+0100
TZNAME:CET
DTSTART:20221030T010000
END:STANDARD
BEGIN:DAYLIGHT
TZOFFSETFROM:+0100
TZOFFSETTO:+0200
TZNAME:CEST
DTSTART:20230326T010000
END:DAYLIGHT
BEGIN:STANDARD
TZOFFSETFROM:+0200
TZOFFSETTO:+0100
TZNAME:CET
DTSTART:20231029T010000
END:STANDARD
BEGIN:DAYLIGHT
TZOFFSETFROM:+0100
TZOFFSETTO:+0200
TZNAME:CEST
DTSTART:20240331T010000
END:DAYLIGHT
BEGIN:STANDARD
TZOFFSETFROM:+0200
TZOFFSETTO:+0100
TZNAME:CET
DTSTART:20241027T010000
END:STANDARD
END:VTIMEZONE
BEGIN:VEVENT
DTSTART;TZID=Europe/Rome:20230502T000000
DTEND;TZID=Europe/Rome:20230505T235900
DTSTAMP:20260425T033007
CREATED:20240715T001331Z
LAST-MODIFIED:20240806T174254Z
UID:4003-1682985600-1683331140@www.centrostudi.cisl.it
SUMMARY:FLAEI Nazionale Corso Formazione
DESCRIPTION:
URL:https://www.centrostudi.cisl.it/evento/flaei-nazionale-corso-formazione/
CATEGORIES:Attività federazioni e territorio
END:VEVENT
BEGIN:VEVENT
DTSTART;TZID=Europe/Rome:20230505T000000
DTEND;TZID=Europe/Rome:20230507T235900
DTSTAMP:20260425T033007
CREATED:20240715T001456Z
LAST-MODIFIED:20240806T174254Z
UID:4004-1683244800-1683503940@www.centrostudi.cisl.it
SUMMARY:TELEFONO AMICO ITALIA Seminario
DESCRIPTION:
URL:https://www.centrostudi.cisl.it/evento/telefono-amico-italia-seminario/
CATEGORIES:Altre attività
END:VEVENT
BEGIN:VEVENT
DTSTART;TZID=Europe/Rome:20230509T000000
DTEND;TZID=Europe/Rome:20230513T235900
DTSTAMP:20260425T033007
CREATED:20240715T001456Z
LAST-MODIFIED:20240806T174253Z
UID:4005-1683590400-1684022340@www.centrostudi.cisl.it
SUMMARY:EuroTrainers Level 1
DESCRIPTION:
URL:https://www.centrostudi.cisl.it/evento/eurotrainers-level-1/
CATEGORIES:Altre attività
END:VEVENT
BEGIN:VEVENT
DTSTART;TZID=Europe/Rome:20230515T000000
DTEND;TZID=Europe/Rome:20230517T235900
DTSTAMP:20260425T033007
CREATED:20240715T001456Z
LAST-MODIFIED:20240806T174252Z
UID:4006-1684108800-1684367940@www.centrostudi.cisl.it
SUMMARY:Corso lungo per contrattualisti sociali
DESCRIPTION:
URL:https://www.centrostudi.cisl.it/evento/corso-lungo-per-contrattualisti-sociali-4/
CATEGORIES:Corsi e seminari confederali
END:VEVENT
BEGIN:VEVENT
DTSTART;TZID=Europe/Rome:20230515T000000
DTEND;TZID=Europe/Rome:20230517T235900
DTSTAMP:20260425T033007
CREATED:20240715T001456Z
LAST-MODIFIED:20240806T174252Z
UID:4007-1684108800-1684367940@www.centrostudi.cisl.it
SUMMARY:Formazione per Segretari Organizzativi
DESCRIPTION:
URL:https://www.centrostudi.cisl.it/evento/formazione-per-segretari-organizzativi-3/
CATEGORIES:Corsi e seminari confederali
END:VEVENT
BEGIN:VEVENT
DTSTART;TZID=Europe/Rome:20230517T000000
DTEND;TZID=Europe/Rome:20230517T235900
DTSTAMP:20260425T033007
CREATED:20240715T001456Z
LAST-MODIFIED:20240806T174251Z
UID:4008-1684281600-1684367940@www.centrostudi.cisl.it
SUMMARY:FNP Toscana Corso RLS
DESCRIPTION:
URL:https://www.centrostudi.cisl.it/evento/fnp-toscana-corso-rls-7/
CATEGORIES:Attività federazioni e territorio
END:VEVENT
BEGIN:VEVENT
DTSTART;TZID=Europe/Rome:20230517T000000
DTEND;TZID=Europe/Rome:20230519T235900
DTSTAMP:20260425T033007
CREATED:20240715T001505Z
LAST-MODIFIED:20240806T174250Z
UID:4009-1684281600-1684540740@www.centrostudi.cisl.it
SUMMARY:FIRST Toscana Corso Tecniche Negoziali
DESCRIPTION:
URL:https://www.centrostudi.cisl.it/evento/first-toscana-corso-tecniche-negoziali/
CATEGORIES:Attività federazioni e territorio
END:VEVENT
BEGIN:VEVENT
DTSTART;TZID=Europe/Rome:20230517T000000
DTEND;TZID=Europe/Rome:20230519T235900
DTSTAMP:20260425T033007
CREATED:20240715T001505Z
LAST-MODIFIED:20240806T174250Z
UID:4010-1684281600-1684540740@www.centrostudi.cisl.it
SUMMARY:USR Toscana Coord. Sicurezza
DESCRIPTION:
URL:https://www.centrostudi.cisl.it/evento/usr-toscana-coord-sicurezza/
CATEGORIES:Attività federazioni e territorio
END:VEVENT
BEGIN:VEVENT
DTSTART;TZID=Europe/Rome:20230517T080000
DTEND;TZID=Europe/Rome:20230518T170000
DTSTAMP:20260425T033007
CREATED:20240715T001505Z
LAST-MODIFIED:20240806T174249Z
UID:4011-1684310400-1684429200@www.centrostudi.cisl.it
SUMMARY:Corso “Appalti\, Infrastrutture\, Edilizia"
DESCRIPTION:
URL:https://www.centrostudi.cisl.it/evento/corso-appalti-infrastrutture-edilizia-2/
CATEGORIES:Corsi e seminari confederali
END:VEVENT
BEGIN:VEVENT
DTSTART;TZID=Europe/Rome:20230518T000000
DTEND;TZID=Europe/Rome:20230520T235900
DTSTAMP:20260425T033007
CREATED:20240715T001505Z
LAST-MODIFIED:20240806T174249Z
UID:4012-1684368000-1684627140@www.centrostudi.cisl.it
SUMMARY:FIRST Intesa San Paolo
DESCRIPTION:
URL:https://www.centrostudi.cisl.it/evento/first-intesa-san-paolo/
CATEGORIES:Attività federazioni e territorio
END:VEVENT
BEGIN:VEVENT
DTSTART;TZID=Europe/Rome:20230522T000000
DTEND;TZID=Europe/Rome:20230524T235900
DTSTAMP:20260425T033007
CREATED:20240715T001505Z
LAST-MODIFIED:20240806T174248Z
UID:4013-1684713600-1684972740@www.centrostudi.cisl.it
SUMMARY:Corso Esperti Politiche Industriali
DESCRIPTION:
URL:https://www.centrostudi.cisl.it/evento/corso-esperti-politiche-industriali-3/
CATEGORIES:Corsi e seminari confederali
END:VEVENT
BEGIN:VEVENT
DTSTART;TZID=Europe/Rome:20230522T000000
DTEND;TZID=Europe/Rome:20230526T235900
DTSTAMP:20260425T033007
CREATED:20240715T001506Z
LAST-MODIFIED:20240806T174247Z
UID:4014-1684713600-1685145540@www.centrostudi.cisl.it
SUMMARY:FISASCAT Nazionale Corso Lungo
DESCRIPTION:
URL:https://www.centrostudi.cisl.it/evento/fisascat-nazionale-corso-lungo-8/
CATEGORIES:Attività federazioni e territorio
END:VEVENT
BEGIN:VEVENT
DTSTART;TZID=Europe/Rome:20230525T000000
DTEND;TZID=Europe/Rome:20230525T235900
DTSTAMP:20260425T033007
CREATED:20240715T001506Z
LAST-MODIFIED:20240806T174247Z
UID:4015-1684972800-1685059140@www.centrostudi.cisl.it
SUMMARY:UST CISL Firenze - Prato   AperiWow
DESCRIPTION:
URL:https://www.centrostudi.cisl.it/evento/ust-cisl-firenze-prato-aperiwow/
CATEGORIES:Attività federazioni e territorio
END:VEVENT
BEGIN:VEVENT
DTSTART;TZID=Europe/Rome:20230526T000000
DTEND;TZID=Europe/Rome:20230527T235900
DTSTAMP:20260425T033007
CREATED:20240715T001506Z
LAST-MODIFIED:20240806T174246Z
UID:4016-1685059200-1685231940@www.centrostudi.cisl.it
SUMMARY:FAI Nazionale Convegno
DESCRIPTION:
URL:https://www.centrostudi.cisl.it/evento/fai-nazionale-convegno/
CATEGORIES:Attività federazioni e territorio
END:VEVENT
BEGIN:VEVENT
DTSTART;TZID=Europe/Rome:20230529T000000
DTEND;TZID=Europe/Rome:20230601T235900
DTSTAMP:20260425T033007
CREATED:20240715T001506Z
LAST-MODIFIED:20240806T174245Z
UID:4017-1685318400-1685663940@www.centrostudi.cisl.it
SUMMARY:“Innovare la contrattazione per promuovere relazioni di lavoro  partecipative” (Corso lungo per contrattualisti delle categorie Cisl del settore privato)
DESCRIPTION:
URL:https://www.centrostudi.cisl.it/evento/innovare-la-contrattazione-per-promuovere-relazioni-di-lavoro-partecipative-corso-lungo-per-contrattualisti-delle-categorie-cisl-del-settore-privato/
CATEGORIES:Corsi e seminari confederali
END:VEVENT
BEGIN:VEVENT
DTSTART;TZID=Europe/Rome:20230529T000000
DTEND;TZID=Europe/Rome:20230601T235900
DTSTAMP:20260425T033007
CREATED:20240715T001506Z
LAST-MODIFIED:20240806T174245Z
UID:4018-1685318400-1685663940@www.centrostudi.cisl.it
SUMMARY:FIRST FBA Corso Credito Cooperativo
DESCRIPTION:
URL:https://www.centrostudi.cisl.it/evento/first-fba-corso-credito-cooperativo/
CATEGORIES:Attività federazioni e territorio
END:VEVENT
END:VCALENDAR