BEGIN:VCALENDAR
VERSION:2.0
PRODID:-//Centro Studi CISL - ECPv6.15.18//NONSGML v1.0//EN
CALSCALE:GREGORIAN
METHOD:PUBLISH
X-WR-CALNAME:Centro Studi CISL
X-ORIGINAL-URL:https://www.centrostudi.cisl.it
X-WR-CALDESC:Eventi per Centro Studi CISL
REFRESH-INTERVAL;VALUE=DURATION:PT1H
X-Robots-Tag:noindex
X-PUBLISHED-TTL:PT1H
BEGIN:VTIMEZONE
TZID:Europe/Rome
BEGIN:DAYLIGHT
TZOFFSETFROM:+0100
TZOFFSETTO:+0200
TZNAME:CEST
DTSTART:20210328T010000
END:DAYLIGHT
BEGIN:STANDARD
TZOFFSETFROM:+0200
TZOFFSETTO:+0100
TZNAME:CET
DTSTART:20211031T010000
END:STANDARD
BEGIN:DAYLIGHT
TZOFFSETFROM:+0100
TZOFFSETTO:+0200
TZNAME:CEST
DTSTART:20220327T010000
END:DAYLIGHT
BEGIN:STANDARD
TZOFFSETFROM:+0200
TZOFFSETTO:+0100
TZNAME:CET
DTSTART:20221030T010000
END:STANDARD
BEGIN:DAYLIGHT
TZOFFSETFROM:+0100
TZOFFSETTO:+0200
TZNAME:CEST
DTSTART:20230326T010000
END:DAYLIGHT
BEGIN:STANDARD
TZOFFSETFROM:+0200
TZOFFSETTO:+0100
TZNAME:CET
DTSTART:20231029T010000
END:STANDARD
END:VTIMEZONE
BEGIN:VEVENT
DTSTART;TZID=Europe/Rome:20220429T000000
DTEND;TZID=Europe/Rome:20220502T235900
DTSTAMP:20260426T041016
CREATED:20240714T234429Z
LAST-MODIFIED:20240807T002210Z
UID:3869-1651190400-1651535940@www.centrostudi.cisl.it
SUMMARY:Associazione Nazionale Insegnanti Scienze Naturali - Corso di Formazione
DESCRIPTION:
URL:https://www.centrostudi.cisl.it/evento/associazione-nazionale-insegnanti-scienze-naturali-corso-di-formazione/
CATEGORIES:Altre attività
END:VEVENT
BEGIN:VEVENT
DTSTART;TZID=Europe/Rome:20220502T000000
DTEND;TZID=Europe/Rome:20220504T235900
DTSTAMP:20260426T041016
CREATED:20240714T234429Z
LAST-MODIFIED:20240807T002209Z
UID:3870-1651449600-1651708740@www.centrostudi.cisl.it
SUMMARY:CISL SCUOLA Latina Corso di Formazione
DESCRIPTION:
URL:https://www.centrostudi.cisl.it/evento/cisl-scuola-latina-corso-di-formazione/
CATEGORIES:Attività federazioni e territorio
END:VEVENT
BEGIN:VEVENT
DTSTART;TZID=Europe/Rome:20220506T080000
DTEND;TZID=Europe/Rome:20220507T170000
DTSTAMP:20260426T041016
CREATED:20240714T234429Z
LAST-MODIFIED:20240807T002208Z
UID:3871-1651824000-1651942800@www.centrostudi.cisl.it
SUMMARY:EUNOMIA Master XVI Edizione
DESCRIPTION:
URL:https://www.centrostudi.cisl.it/evento/eunomia-master-xvi-edizione-4/
CATEGORIES:Altre attività
END:VEVENT
BEGIN:VEVENT
DTSTART;TZID=Europe/Rome:20220513T000000
DTEND;TZID=Europe/Rome:20220513T235900
DTSTAMP:20260426T041016
CREATED:20240714T234429Z
LAST-MODIFIED:20240807T002208Z
UID:3872-1652400000-1652486340@www.centrostudi.cisl.it
SUMMARY:FIT Toscana Riunione
DESCRIPTION:
URL:https://www.centrostudi.cisl.it/evento/fit-toscana-riunione/
CATEGORIES:Attività federazioni e territorio
END:VEVENT
BEGIN:VEVENT
DTSTART;TZID=Europe/Rome:20220516T000000
DTEND;TZID=Europe/Rome:20220518T235900
DTSTAMP:20260426T041016
CREATED:20240714T234429Z
LAST-MODIFIED:20240807T002207Z
UID:3873-1652659200-1652918340@www.centrostudi.cisl.it
SUMMARY:FIT Veneto Corso di Formazione
DESCRIPTION:
URL:https://www.centrostudi.cisl.it/evento/fit-veneto-corso-di-formazione/
CATEGORIES:Attività federazioni e territorio
END:VEVENT
BEGIN:VEVENT
DTSTART;TZID=Europe/Rome:20220519T080000
DTEND;TZID=Europe/Rome:20220520T170000
DTSTAMP:20260426T041016
CREATED:20240714T234629Z
LAST-MODIFIED:20240807T002206Z
UID:3874-1652947200-1653066000@www.centrostudi.cisl.it
SUMMARY:TSTAT Seminario
DESCRIPTION:
URL:https://www.centrostudi.cisl.it/evento/tstat-seminario/
CATEGORIES:Altre attività
END:VEVENT
BEGIN:VEVENT
DTSTART;TZID=Europe/Rome:20220520T080000
DTEND;TZID=Europe/Rome:20220522T170000
DTSTAMP:20260426T041016
CREATED:20240714T234629Z
LAST-MODIFIED:20240807T002205Z
UID:3875-1653033600-1653238800@www.centrostudi.cisl.it
SUMMARY:Amnesty International Seminario
DESCRIPTION:
URL:https://www.centrostudi.cisl.it/evento/amnesty-international-seminario-2/
CATEGORIES:Altre attività
END:VEVENT
BEGIN:VEVENT
DTSTART;TZID=Europe/Rome:20220523T000000
DTEND;TZID=Europe/Rome:20220524T235900
DTSTAMP:20260426T041016
CREATED:20240714T234629Z
LAST-MODIFIED:20240807T002204Z
UID:3876-1653264000-1653436740@www.centrostudi.cisl.it
SUMMARY:Associazione Italiana Cristallografia - Congresso
DESCRIPTION:
URL:https://www.centrostudi.cisl.it/evento/associazione-italiana-cristallografia-congresso/
CATEGORIES:Altre attività
END:VEVENT
BEGIN:VEVENT
DTSTART;TZID=Europe/Rome:20220530T000000
DTEND;TZID=Europe/Rome:20220531T235900
DTSTAMP:20260426T041016
CREATED:20240714T234629Z
LAST-MODIFIED:20240807T002203Z
UID:3877-1653868800-1654041540@www.centrostudi.cisl.it
SUMMARY:FIT CISL Lazio Seminario
DESCRIPTION:
URL:https://www.centrostudi.cisl.it/evento/fit-cisl-lazio-seminario/
CATEGORIES:Attività federazioni e territorio
END:VEVENT
END:VCALENDAR