BEGIN:VCALENDAR
VERSION:2.0
PRODID:-//Centro Studi CISL - ECPv6.15.18//NONSGML v1.0//EN
CALSCALE:GREGORIAN
METHOD:PUBLISH
X-ORIGINAL-URL:https://www.centrostudi.cisl.it
X-WR-CALDESC:Eventi per Centro Studi CISL
REFRESH-INTERVAL;VALUE=DURATION:PT1H
X-Robots-Tag:noindex
X-PUBLISHED-TTL:PT1H
BEGIN:VTIMEZONE
TZID:Europe/Rome
BEGIN:DAYLIGHT
TZOFFSETFROM:+0100
TZOFFSETTO:+0200
TZNAME:CEST
DTSTART:20210328T010000
END:DAYLIGHT
BEGIN:STANDARD
TZOFFSETFROM:+0200
TZOFFSETTO:+0100
TZNAME:CET
DTSTART:20211031T010000
END:STANDARD
BEGIN:DAYLIGHT
TZOFFSETFROM:+0100
TZOFFSETTO:+0200
TZNAME:CEST
DTSTART:20220327T010000
END:DAYLIGHT
BEGIN:STANDARD
TZOFFSETFROM:+0200
TZOFFSETTO:+0100
TZNAME:CET
DTSTART:20221030T010000
END:STANDARD
BEGIN:DAYLIGHT
TZOFFSETFROM:+0100
TZOFFSETTO:+0200
TZNAME:CEST
DTSTART:20230326T010000
END:DAYLIGHT
BEGIN:STANDARD
TZOFFSETFROM:+0200
TZOFFSETTO:+0100
TZNAME:CET
DTSTART:20231029T010000
END:STANDARD
END:VTIMEZONE
BEGIN:VEVENT
DTSTART;TZID=Europe/Rome:20220408T000000
DTEND;TZID=Europe/Rome:20220408T235900
DTSTAMP:20260426T052910
CREATED:20240714T234229Z
LAST-MODIFIED:20240807T002214Z
UID:3865-1649376000-1649462340@www.centrostudi.cisl.it
SUMMARY:Eunomia Master XVI edizione
DESCRIPTION:
URL:https://www.centrostudi.cisl.it/evento/eunomia-master-xvi-edizione-2/
CATEGORIES:Altre attività
END:VEVENT
BEGIN:VEVENT
DTSTART;TZID=Europe/Rome:20220420T000000
DTEND;TZID=Europe/Rome:20220422T235900
DTSTAMP:20260426T052910
CREATED:20240714T234229Z
LAST-MODIFIED:20240807T002213Z
UID:3866-1650412800-1650671940@www.centrostudi.cisl.it
SUMMARY:FIT CISL Alto Adige Corso di formazione
DESCRIPTION:
URL:https://www.centrostudi.cisl.it/evento/fit-cisl-alto-adige-corso-di-formazione/
CATEGORIES:Attività federazioni e territorio
END:VEVENT
BEGIN:VEVENT
DTSTART;TZID=Europe/Rome:20220422T000000
DTEND;TZID=Europe/Rome:20220423T235900
DTSTAMP:20260426T052910
CREATED:20240714T234229Z
LAST-MODIFIED:20240807T002212Z
UID:3867-1650585600-1650758340@www.centrostudi.cisl.it
SUMMARY:Eunomia Master XVI Edizione
DESCRIPTION:
URL:https://www.centrostudi.cisl.it/evento/eunomia-master-xvi-edizione-3/
CATEGORIES:Altre attività
END:VEVENT
BEGIN:VEVENT
DTSTART;TZID=Europe/Rome:20220428T080000
DTEND;TZID=Europe/Rome:20220429T170000
DTSTAMP:20260426T052910
CREATED:20240714T234229Z
LAST-MODIFIED:20240807T002211Z
UID:3868-1651132800-1651251600@www.centrostudi.cisl.it
SUMMARY:Fondo PEGASO
DESCRIPTION:
URL:https://www.centrostudi.cisl.it/evento/fondo-pegaso/
CATEGORIES:Altre attività
END:VEVENT
BEGIN:VEVENT
DTSTART;TZID=Europe/Rome:20220429T000000
DTEND;TZID=Europe/Rome:20220502T235900
DTSTAMP:20260426T052910
CREATED:20240714T234429Z
LAST-MODIFIED:20240807T002210Z
UID:3869-1651190400-1651535940@www.centrostudi.cisl.it
SUMMARY:Associazione Nazionale Insegnanti Scienze Naturali - Corso di Formazione
DESCRIPTION:
URL:https://www.centrostudi.cisl.it/evento/associazione-nazionale-insegnanti-scienze-naturali-corso-di-formazione/
CATEGORIES:Altre attività
END:VEVENT
END:VCALENDAR