BEGIN:VCALENDAR
VERSION:2.0
PRODID:-//Centro Studi CISL - ECPv6.15.18//NONSGML v1.0//EN
CALSCALE:GREGORIAN
METHOD:PUBLISH
X-WR-CALNAME:Centro Studi CISL
X-ORIGINAL-URL:https://www.centrostudi.cisl.it
X-WR-CALDESC:Eventi per Centro Studi CISL
REFRESH-INTERVAL;VALUE=DURATION:PT1H
X-Robots-Tag:noindex
X-PUBLISHED-TTL:PT1H
BEGIN:VTIMEZONE
TZID:Europe/Rome
BEGIN:DAYLIGHT
TZOFFSETFROM:+0100
TZOFFSETTO:+0200
TZNAME:CEST
DTSTART:20150329T010000
END:DAYLIGHT
BEGIN:STANDARD
TZOFFSETFROM:+0200
TZOFFSETTO:+0100
TZNAME:CET
DTSTART:20151025T010000
END:STANDARD
BEGIN:DAYLIGHT
TZOFFSETFROM:+0100
TZOFFSETTO:+0200
TZNAME:CEST
DTSTART:20160327T010000
END:DAYLIGHT
BEGIN:STANDARD
TZOFFSETFROM:+0200
TZOFFSETTO:+0100
TZNAME:CET
DTSTART:20161030T010000
END:STANDARD
BEGIN:DAYLIGHT
TZOFFSETFROM:+0100
TZOFFSETTO:+0200
TZNAME:CEST
DTSTART:20170326T010000
END:DAYLIGHT
BEGIN:STANDARD
TZOFFSETFROM:+0200
TZOFFSETTO:+0100
TZNAME:CET
DTSTART:20171029T010000
END:STANDARD
END:VTIMEZONE
BEGIN:VEVENT
DTSTART;TZID=Europe/Rome:20160112T000000
DTEND;TZID=Europe/Rome:20160112T235900
DTSTAMP:20260422T014125
CREATED:20240714T004538Z
LAST-MODIFIED:20240714T004538Z
UID:3283-1452556800-1452643140@www.centrostudi.cisl.it
SUMMARY:FISASCAT Nazionale Propedeutico Corso Lungo
DESCRIPTION:
URL:https://www.centrostudi.cisl.it/evento/fisascat-nazionale-propedeutico-corso-lungo/
CATEGORIES:Attività federazioni e territorio
END:VEVENT
BEGIN:VEVENT
DTSTART;TZID=Europe/Rome:20160113T000000
DTEND;TZID=Europe/Rome:20160115T235900
DTSTAMP:20260422T014125
CREATED:20240714T004538Z
LAST-MODIFIED:20240714T004538Z
UID:3284-1452643200-1452902340@www.centrostudi.cisl.it
SUMMARY:CISL Il rapporto di lavoro e la sua regolazione 1° Modulo
DESCRIPTION:
URL:https://www.centrostudi.cisl.it/evento/cisl-il-rapporto-di-lavoro-e-la-sua-regolazione-1-modulo/
CATEGORIES:Corsi e seminari confederali
END:VEVENT
BEGIN:VEVENT
DTSTART;TZID=Europe/Rome:20160118T000000
DTEND;TZID=Europe/Rome:20160121T235900
DTSTAMP:20260422T014125
CREATED:20240714T004538Z
LAST-MODIFIED:20240714T004538Z
UID:3285-1453075200-1453420740@www.centrostudi.cisl.it
SUMMARY:CISL Contrattualisti territoriali esperti nuovo welfare
DESCRIPTION:
URL:https://www.centrostudi.cisl.it/evento/cisl-contrattualisti-territoriali-esperti-nuovo-welfare-3/
CATEGORIES:Corsi e seminari confederali
END:VEVENT
BEGIN:VEVENT
DTSTART;TZID=Europe/Rome:20160121T000000
DTEND;TZID=Europe/Rome:20160122T235900
DTSTAMP:20260422T014125
CREATED:20240714T004541Z
LAST-MODIFIED:20240714T004541Z
UID:3286-1453334400-1453507140@www.centrostudi.cisl.it
SUMMARY:FAI Emilia Romagna Corso
DESCRIPTION:
URL:https://www.centrostudi.cisl.it/evento/fai-emilia-romagna-corso/
CATEGORIES:Attività federazioni e territorio
END:VEVENT
BEGIN:VEVENT
DTSTART;TZID=Europe/Rome:20160121T000000
DTEND;TZID=Europe/Rome:20160122T235900
DTSTAMP:20260422T014125
CREATED:20240714T004541Z
LAST-MODIFIED:20240714T004541Z
UID:3287-1453334400-1453507140@www.centrostudi.cisl.it
SUMMARY:FEMCA Nazionale Esecutivo
DESCRIPTION:
URL:https://www.centrostudi.cisl.it/evento/femca-nazionale-esecutivo/
CATEGORIES:Attività federazioni e territorio
END:VEVENT
BEGIN:VEVENT
DTSTART;TZID=Europe/Rome:20160122T000000
DTEND;TZID=Europe/Rome:20160124T235900
DTSTAMP:20260422T014125
CREATED:20240714T004542Z
LAST-MODIFIED:20240714T004542Z
UID:3288-1453420800-1453679940@www.centrostudi.cisl.it
SUMMARY:Corso C.A.M.
DESCRIPTION:
URL:https://www.centrostudi.cisl.it/evento/corso-c-a-m/
CATEGORIES:Altre attività
END:VEVENT
BEGIN:VEVENT
DTSTART;TZID=Europe/Rome:20160125T000000
DTEND;TZID=Europe/Rome:20160126T235900
DTSTAMP:20260422T014125
CREATED:20240714T004542Z
LAST-MODIFIED:20240714T004542Z
UID:3289-1453680000-1453852740@www.centrostudi.cisl.it
SUMMARY:CISL Seminario formativo "Lo sviluppo della previdenza complementare tra investimenti nell'economia reale\, finanza sostenibile e rilancio delle adesioni"
DESCRIPTION:
URL:https://www.centrostudi.cisl.it/evento/cisl-seminario-formativo-lo-sviluppo-della-previdenza-complementare-tra-investimenti-nelleconomia-reale-finanza-sostenibile-e-rilancio-delle-adesioni/
CATEGORIES:Corsi e seminari confederali
END:VEVENT
BEGIN:VEVENT
DTSTART;TZID=Europe/Rome:20160125T000000
DTEND;TZID=Europe/Rome:20160127T235900
DTSTAMP:20260422T014125
CREATED:20240714T004542Z
LAST-MODIFIED:20240714T004542Z
UID:3290-1453680000-1453939140@www.centrostudi.cisl.it
SUMMARY:FNP Coordinamento Donne
DESCRIPTION:
URL:https://www.centrostudi.cisl.it/evento/fnp-coordinamento-donne-2/
CATEGORIES:Attività federazioni e territorio
END:VEVENT
BEGIN:VEVENT
DTSTART;TZID=Europe/Rome:20160127T000000
DTEND;TZID=Europe/Rome:20160127T235900
DTSTAMP:20260422T014125
CREATED:20240714T004738Z
LAST-MODIFIED:20240714T004738Z
UID:3291-1453852800-1453939140@www.centrostudi.cisl.it
SUMMARY:FEMCA Nazionale Riunione
DESCRIPTION:
URL:https://www.centrostudi.cisl.it/evento/femca-nazionale-riunione/
CATEGORIES:Attività federazioni e territorio
END:VEVENT
BEGIN:VEVENT
DTSTART;TZID=Europe/Rome:20160127T000000
DTEND;TZID=Europe/Rome:20160129T235900
DTSTAMP:20260422T014125
CREATED:20240714T004739Z
LAST-MODIFIED:20240714T004739Z
UID:3292-1453852800-1454111940@www.centrostudi.cisl.it
SUMMARY:CISL Salute e sicurezza del lavoro e ambiente 2° Modulo
DESCRIPTION:
URL:https://www.centrostudi.cisl.it/evento/cisl-salute-e-sicurezza-del-lavoro-e-ambiente-2-modulo/
CATEGORIES:Corsi e seminari confederali
END:VEVENT
BEGIN:VEVENT
DTSTART;TZID=Europe/Rome:20160127T000000
DTEND;TZID=Europe/Rome:20160129T235900
DTSTAMP:20260422T014125
CREATED:20240714T004739Z
LAST-MODIFIED:20240714T004739Z
UID:3293-1453852800-1454111940@www.centrostudi.cisl.it
SUMMARY:ETUI Course on Social Policies
DESCRIPTION:
URL:https://www.centrostudi.cisl.it/evento/etui-course-on-social-policies/
CATEGORIES:Altre attività
END:VEVENT
END:VCALENDAR