BEGIN:VCALENDAR
VERSION:2.0
PRODID:-//Centro Studi CISL - ECPv6.15.18//NONSGML v1.0//EN
CALSCALE:GREGORIAN
METHOD:PUBLISH
X-WR-CALNAME:Centro Studi CISL
X-ORIGINAL-URL:https://www.centrostudi.cisl.it
X-WR-CALDESC:Eventi per Centro Studi CISL
REFRESH-INTERVAL;VALUE=DURATION:PT1H
X-Robots-Tag:noindex
X-PUBLISHED-TTL:PT1H
BEGIN:VTIMEZONE
TZID:Europe/Rome
BEGIN:DAYLIGHT
TZOFFSETFROM:+0100
TZOFFSETTO:+0200
TZNAME:CEST
DTSTART:20180325T010000
END:DAYLIGHT
BEGIN:STANDARD
TZOFFSETFROM:+0200
TZOFFSETTO:+0100
TZNAME:CET
DTSTART:20181028T010000
END:STANDARD
BEGIN:DAYLIGHT
TZOFFSETFROM:+0100
TZOFFSETTO:+0200
TZNAME:CEST
DTSTART:20190331T010000
END:DAYLIGHT
BEGIN:STANDARD
TZOFFSETFROM:+0200
TZOFFSETTO:+0100
TZNAME:CET
DTSTART:20191027T010000
END:STANDARD
BEGIN:DAYLIGHT
TZOFFSETFROM:+0100
TZOFFSETTO:+0200
TZNAME:CEST
DTSTART:20200329T010000
END:DAYLIGHT
BEGIN:STANDARD
TZOFFSETFROM:+0200
TZOFFSETTO:+0100
TZNAME:CET
DTSTART:20201025T010000
END:STANDARD
END:VTIMEZONE
BEGIN:VEVENT
DTSTART;TZID=Europe/Rome:20191007T000000
DTEND;TZID=Europe/Rome:20191008T235900
DTSTAMP:20260420T092923
CREATED:20240714T123932Z
LAST-MODIFIED:20240714T123932Z
UID:3739-1570406400-1570579140@www.centrostudi.cisl.it
SUMMARY:FLAEI Piemonte Esecutivo Regionale
DESCRIPTION:
URL:https://www.centrostudi.cisl.it/evento/flaei-piemonte-esecutivo-regionale/
CATEGORIES:Attività federazioni e territorio
END:VEVENT
BEGIN:VEVENT
DTSTART;TZID=Europe/Rome:20191008T000000
DTEND;TZID=Europe/Rome:20191008T235900
DTSTAMP:20260420T092923
CREATED:20240714T123932Z
LAST-MODIFIED:20240714T123932Z
UID:3740-1570492800-1570579140@www.centrostudi.cisl.it
SUMMARY:FIT Firenze - Riunione
DESCRIPTION:
URL:https://www.centrostudi.cisl.it/evento/fit-firenze-riunione/
CATEGORIES:Attività federazioni e territorio
END:VEVENT
BEGIN:VEVENT
DTSTART;TZID=Europe/Rome:20191009T000000
DTEND;TZID=Europe/Rome:20191011T235900
DTSTAMP:20260420T092923
CREATED:20240714T131407Z
LAST-MODIFIED:20240714T131407Z
UID:3741-1570579200-1570838340@www.centrostudi.cisl.it
SUMMARY:Corso FIRST / FBA
DESCRIPTION:
URL:https://www.centrostudi.cisl.it/evento/corso-first-fba/
CATEGORIES:Attività federazioni e territorio
END:VEVENT
BEGIN:VEVENT
DTSTART;TZID=Europe/Rome:20191016T000000
DTEND;TZID=Europe/Rome:20191018T235900
DTSTAMP:20260420T092923
CREATED:20240714T131407Z
LAST-MODIFIED:20240714T131407Z
UID:3745-1571184000-1571443140@www.centrostudi.cisl.it
SUMMARY:FNP Corso Coord. RLS Coord. Donne
DESCRIPTION:
URL:https://www.centrostudi.cisl.it/evento/fnp-corso-coord-rls-coord-donne/
CATEGORIES:Attività federazioni e territorio
END:VEVENT
BEGIN:VEVENT
DTSTART;TZID=Europe/Rome:20191017T000000
DTEND;TZID=Europe/Rome:20191019T235900
DTSTAMP:20260420T092923
CREATED:20240714T134848Z
LAST-MODIFIED:20240714T134848Z
UID:3746-1571270400-1571529540@www.centrostudi.cisl.it
SUMMARY:Corso CISL MEDICI
DESCRIPTION:
URL:https://www.centrostudi.cisl.it/evento/corso-cisl-medici/
CATEGORIES:Attività federazioni e territorio
END:VEVENT
BEGIN:VEVENT
DTSTART;TZID=Europe/Rome:20191023T000000
DTEND;TZID=Europe/Rome:20191025T235900
DTSTAMP:20260420T092923
CREATED:20240714T134848Z
LAST-MODIFIED:20240714T134848Z
UID:3749-1571788800-1572047940@www.centrostudi.cisl.it
SUMMARY:FNP Corso Segretari con Delega alla Formazione
DESCRIPTION:
URL:https://www.centrostudi.cisl.it/evento/fnp-corso-segretari-con-delega-alla-formazione/
CATEGORIES:Attività federazioni e territorio
END:VEVENT
BEGIN:VEVENT
DTSTART;TZID=Europe/Rome:20191028T000000
DTEND;TZID=Europe/Rome:20191030T235900
DTSTAMP:20260420T092923
CREATED:20240714T141522Z
LAST-MODIFIED:20240714T141522Z
UID:3752-1572220800-1572479940@www.centrostudi.cisl.it
SUMMARY:FIRST Corso FBA
DESCRIPTION:
URL:https://www.centrostudi.cisl.it/evento/first-corso-fba/
CATEGORIES:Attività federazioni e territorio
END:VEVENT
BEGIN:VEVENT
DTSTART;TZID=Europe/Rome:20191030T000000
DTEND;TZID=Europe/Rome:20191031T235900
DTSTAMP:20260420T092923
CREATED:20240714T141522Z
LAST-MODIFIED:20240714T141522Z
UID:3753-1572393600-1572566340@www.centrostudi.cisl.it
SUMMARY:FILCA Nazionale Corso
DESCRIPTION:
URL:https://www.centrostudi.cisl.it/evento/filca-nazionale-corso-2/
CATEGORIES:Attività federazioni e territorio
END:VEVENT
BEGIN:VEVENT
DTSTART;TZID=Europe/Rome:20191030T000000
DTEND;TZID=Europe/Rome:20191103T235900
DTSTAMP:20260420T092923
CREATED:20240714T141522Z
LAST-MODIFIED:20240714T141522Z
UID:3754-1572393600-1572825540@www.centrostudi.cisl.it
SUMMARY:Seminario FIT-CISL ICWTWU
DESCRIPTION:
URL:https://www.centrostudi.cisl.it/evento/seminario-fit-cisl-icwtwu/
CATEGORIES:Attività federazioni e territorio
END:VEVENT
END:VCALENDAR