BEGIN:VCALENDAR
VERSION:2.0
PRODID:-//Centro Studi CISL - ECPv6.15.18//NONSGML v1.0//EN
CALSCALE:GREGORIAN
METHOD:PUBLISH
X-WR-CALNAME:Centro Studi CISL
X-ORIGINAL-URL:https://www.centrostudi.cisl.it
X-WR-CALDESC:Eventi per Centro Studi CISL
REFRESH-INTERVAL;VALUE=DURATION:PT1H
X-Robots-Tag:noindex
X-PUBLISHED-TTL:PT1H
BEGIN:VTIMEZONE
TZID:Europe/Rome
BEGIN:DAYLIGHT
TZOFFSETFROM:+0100
TZOFFSETTO:+0200
TZNAME:CEST
DTSTART:20220327T010000
END:DAYLIGHT
BEGIN:STANDARD
TZOFFSETFROM:+0200
TZOFFSETTO:+0100
TZNAME:CET
DTSTART:20221030T010000
END:STANDARD
BEGIN:DAYLIGHT
TZOFFSETFROM:+0100
TZOFFSETTO:+0200
TZNAME:CEST
DTSTART:20230326T010000
END:DAYLIGHT
BEGIN:STANDARD
TZOFFSETFROM:+0200
TZOFFSETTO:+0100
TZNAME:CET
DTSTART:20231029T010000
END:STANDARD
BEGIN:DAYLIGHT
TZOFFSETFROM:+0100
TZOFFSETTO:+0200
TZNAME:CEST
DTSTART:20240331T010000
END:DAYLIGHT
BEGIN:STANDARD
TZOFFSETFROM:+0200
TZOFFSETTO:+0100
TZNAME:CET
DTSTART:20241027T010000
END:STANDARD
END:VTIMEZONE
BEGIN:VEVENT
DTSTART;TZID=Europe/Rome:20230411T000000
DTEND;TZID=Europe/Rome:20230414T235900
DTSTAMP:20260425T033015
CREATED:20240715T001129Z
LAST-MODIFIED:20240806T174825Z
UID:3996-1681171200-1681516740@www.centrostudi.cisl.it
SUMMARY:INAS Corso di Formazione
DESCRIPTION:
URL:https://www.centrostudi.cisl.it/evento/inas-corso-di-formazione/
CATEGORIES:Attività federazioni e territorio
END:VEVENT
BEGIN:VEVENT
DTSTART;TZID=Europe/Rome:20230412T000000
DTEND;TZID=Europe/Rome:20230414T235900
DTSTAMP:20260425T033015
CREATED:20240715T001130Z
LAST-MODIFIED:20240806T174824Z
UID:3997-1681257600-1681516740@www.centrostudi.cisl.it
SUMMARY:Corso lungo per contrattualisti sociali
DESCRIPTION:
URL:https://www.centrostudi.cisl.it/evento/corso-lungo-per-contrattualisti-sociali-3/
CATEGORIES:Corsi e seminari confederali
END:VEVENT
BEGIN:VEVENT
DTSTART;TZID=Europe/Rome:20230413T000000
DTEND;TZID=Europe/Rome:20230416T235900
DTSTAMP:20260425T033015
CREATED:20240715T001130Z
LAST-MODIFIED:20240806T174824Z
UID:3998-1681344000-1681689540@www.centrostudi.cisl.it
SUMMARY:COIRAG Workshop Allievi I° Anno
DESCRIPTION:
URL:https://www.centrostudi.cisl.it/evento/coirag-workshop-allievi-i-anno-2/
CATEGORIES:Altre attività
END:VEVENT
END:VCALENDAR