BEGIN:VCALENDAR
VERSION:2.0
PRODID:-//Centro Studi CISL - ECPv6.15.18//NONSGML v1.0//EN
CALSCALE:GREGORIAN
METHOD:PUBLISH
X-WR-CALNAME:Centro Studi CISL
X-ORIGINAL-URL:https://www.centrostudi.cisl.it
X-WR-CALDESC:Eventi per Centro Studi CISL
REFRESH-INTERVAL;VALUE=DURATION:PT1H
X-Robots-Tag:noindex
X-PUBLISHED-TTL:PT1H
BEGIN:VTIMEZONE
TZID:Europe/Rome
BEGIN:DAYLIGHT
TZOFFSETFROM:+0100
TZOFFSETTO:+0200
TZNAME:CEST
DTSTART:20210328T010000
END:DAYLIGHT
BEGIN:STANDARD
TZOFFSETFROM:+0200
TZOFFSETTO:+0100
TZNAME:CET
DTSTART:20211031T010000
END:STANDARD
BEGIN:DAYLIGHT
TZOFFSETFROM:+0100
TZOFFSETTO:+0200
TZNAME:CEST
DTSTART:20220327T010000
END:DAYLIGHT
BEGIN:STANDARD
TZOFFSETFROM:+0200
TZOFFSETTO:+0100
TZNAME:CET
DTSTART:20221030T010000
END:STANDARD
BEGIN:DAYLIGHT
TZOFFSETFROM:+0100
TZOFFSETTO:+0200
TZNAME:CEST
DTSTART:20230326T010000
END:DAYLIGHT
BEGIN:STANDARD
TZOFFSETFROM:+0200
TZOFFSETTO:+0100
TZNAME:CET
DTSTART:20231029T010000
END:STANDARD
END:VTIMEZONE
BEGIN:VEVENT
DTSTART;TZID=Europe/Rome:20220912T000000
DTEND;TZID=Europe/Rome:20220914T235900
DTSTAMP:20260426T000139
CREATED:20240714T235429Z
LAST-MODIFIED:20240806T175031Z
UID:3898-1662940800-1663199940@www.centrostudi.cisl.it
SUMMARY:Corso “La Giusta Transizione: politiche\, strumenti\, percorsi” (progetto europeo JusTRA)
DESCRIPTION:
URL:https://www.centrostudi.cisl.it/evento/corso-la-giusta-transizione-politiche-strumenti-percorsi-progetto-europeo-justra/
CATEGORIES:Corsi e seminari confederali
END:VEVENT
BEGIN:VEVENT
DTSTART;TZID=Europe/Rome:20220914T000000
DTEND;TZID=Europe/Rome:20220916T235900
DTSTAMP:20260426T000139
CREATED:20240714T235629Z
LAST-MODIFIED:20240806T175030Z
UID:3899-1663113600-1663372740@www.centrostudi.cisl.it
SUMMARY:CISL SCUOLA Torino-Canavese Corso Formazione
DESCRIPTION:
URL:https://www.centrostudi.cisl.it/evento/cisl-scuola-torino-canavese-corso-formazione/
CATEGORIES:Attività federazioni e territorio
END:VEVENT
END:VCALENDAR