BEGIN:VCALENDAR
VERSION:2.0
PRODID:-//Centro Studi CISL - ECPv6.15.18//NONSGML v1.0//EN
CALSCALE:GREGORIAN
METHOD:PUBLISH
X-ORIGINAL-URL:https://www.centrostudi.cisl.it
X-WR-CALDESC:Eventi per Centro Studi CISL
REFRESH-INTERVAL;VALUE=DURATION:PT1H
X-Robots-Tag:noindex
X-PUBLISHED-TTL:PT1H
BEGIN:VTIMEZONE
TZID:Europe/Rome
BEGIN:DAYLIGHT
TZOFFSETFROM:+0100
TZOFFSETTO:+0200
TZNAME:CEST
DTSTART:20210328T010000
END:DAYLIGHT
BEGIN:STANDARD
TZOFFSETFROM:+0200
TZOFFSETTO:+0100
TZNAME:CET
DTSTART:20211031T010000
END:STANDARD
BEGIN:DAYLIGHT
TZOFFSETFROM:+0100
TZOFFSETTO:+0200
TZNAME:CEST
DTSTART:20220327T010000
END:DAYLIGHT
BEGIN:STANDARD
TZOFFSETFROM:+0200
TZOFFSETTO:+0100
TZNAME:CET
DTSTART:20221030T010000
END:STANDARD
BEGIN:DAYLIGHT
TZOFFSETFROM:+0100
TZOFFSETTO:+0200
TZNAME:CEST
DTSTART:20230326T010000
END:DAYLIGHT
BEGIN:STANDARD
TZOFFSETFROM:+0200
TZOFFSETTO:+0100
TZNAME:CET
DTSTART:20231029T010000
END:STANDARD
END:VTIMEZONE
BEGIN:VEVENT
DTSTART;TZID=Europe/Rome:20220609T000000
DTEND;TZID=Europe/Rome:20220610T235900
DTSTAMP:20260426T041015
CREATED:20240714T234829Z
LAST-MODIFIED:20240807T002201Z
UID:3879-1654732800-1654905540@www.centrostudi.cisl.it
SUMMARY:Laboratorio "Carlo Corchia" Seminario Epidemiologia Pediatrica
DESCRIPTION:
URL:https://www.centrostudi.cisl.it/evento/laboratorio-carlo-corchia-seminario-epidemiologia-pediatrica/
CATEGORIES:Altre attività
END:VEVENT
BEGIN:VEVENT
DTSTART;TZID=Europe/Rome:20220609T000000
DTEND;TZID=Europe/Rome:20220612T235900
DTSTAMP:20260426T041015
CREATED:20240714T234829Z
LAST-MODIFIED:20240807T002200Z
UID:3880-1654732800-1655078340@www.centrostudi.cisl.it
SUMMARY:COIRAG Workshop Allievi II Anno
DESCRIPTION:
URL:https://www.centrostudi.cisl.it/evento/coirag-workshop-allievi-ii-anno/
CATEGORIES:Altre attività
END:VEVENT
END:VCALENDAR